BEGIN:VCALENDAR
VERSION:2.0
PRODID:-//S.N.D.T College Of Education, Pune - ECPv6.15.17//NONSGML v1.0//EN
CALSCALE:GREGORIAN
METHOD:PUBLISH
X-WR-CALNAME:S.N.D.T College Of Education, Pune
X-ORIGINAL-URL:https://sndtiase.ac.in
X-WR-CALDESC:Events for S.N.D.T College Of Education, Pune
REFRESH-INTERVAL;VALUE=DURATION:PT1H
X-Robots-Tag:noindex
X-PUBLISHED-TTL:PT1H
BEGIN:VTIMEZONE
TZID:Asia/Kolkata
BEGIN:STANDARD
TZOFFSETFROM:+0530
TZOFFSETTO:+0530
TZNAME:IST
DTSTART:20240101T000000
END:STANDARD
END:VTIMEZONE
BEGIN:VEVENT
DTSTART;TZID=Asia/Kolkata:20250801T080000
DTEND;TZID=Asia/Kolkata:20250801T170000
DTSTAMP:20260424T211339
CREATED:20260102T102434Z
LAST-MODIFIED:20260102T103220Z
UID:4124-1754035200-1754067600@sndtiase.ac.in
SUMMARY:AnnabhauSathe & LokmanyaTilak Jayanti2025
DESCRIPTION:KatrajV Report
URL:https://sndtiase.ac.in/event/annabhausathe-lokmanyatilak-jayanti2025/
CATEGORIES:College Event
ATTACH;FMTTYPE=image/png:https://sndtiase.ac.in/wp-content/uploads/AnnabhauSathe-LokmanyaTilak-Jayanti2025.png
END:VEVENT
BEGIN:VEVENT
DTSTART;TZID=Asia/Kolkata:20250804T110000
DTEND;TZID=Asia/Kolkata:20250804T233000
DTSTAMP:20260424T211339
CREATED:20260103T052910Z
LAST-MODIFIED:20260103T052956Z
UID:4170-1754305200-1754350200@sndtiase.ac.in
SUMMARY:Krantisinha Nanapatil Jayanti 2025
DESCRIPTION:Krantisinha Jayanti
URL:https://sndtiase.ac.in/event/krantisinha-nanapatil-jayanti-2025/
LOCATION:ITEP Department
CATEGORIES:College Event
END:VEVENT
END:VCALENDAR