BEGIN:VCALENDAR
VERSION:2.0
PRODID:-//S.N.D.T College Of Education, Pune - ECPv6.15.17//NONSGML v1.0//EN
CALSCALE:GREGORIAN
METHOD:PUBLISH
X-WR-CALNAME:S.N.D.T College Of Education, Pune
X-ORIGINAL-URL:https://sndtiase.ac.in
X-WR-CALDESC:Events for S.N.D.T College Of Education, Pune
REFRESH-INTERVAL;VALUE=DURATION:PT1H
X-Robots-Tag:noindex
X-PUBLISHED-TTL:PT1H
BEGIN:VTIMEZONE
TZID:Asia/Kolkata
BEGIN:STANDARD
TZOFFSETFROM:+0530
TZOFFSETTO:+0530
TZNAME:IST
DTSTART:20240101T000000
END:STANDARD
END:VTIMEZONE
BEGIN:VEVENT
DTSTART;TZID=Asia/Kolkata:20250910T080000
DTEND;TZID=Asia/Kolkata:20250910T170000
DTSTAMP:20260424T230643
CREATED:20260103T051144Z
LAST-MODIFIED:20260103T060933Z
UID:4154-1757491200-1757523600@sndtiase.ac.in
SUMMARY:Report on the Educational Trip to Junnar\, Shivneri Fort\, Malshej Ghat and Ozar
DESCRIPTION:EducationalTripJunnar
URL:https://sndtiase.ac.in/event/report-on-the-educational-trip-to-junnar-shivneri-fort-malshej-ghat-and-ozar/
CATEGORIES:College Event
ATTACH;FMTTYPE=image/png:https://sndtiase.ac.in/wp-content/uploads/Educational-Trip-to-Junnar.png
END:VEVENT
BEGIN:VEVENT
DTSTART;TZID=Asia/Kolkata:20250913T120000
DTEND;TZID=Asia/Kolkata:20250913T130000
DTSTAMP:20260424T230643
CREATED:20260103T055002Z
LAST-MODIFIED:20260103T055118Z
UID:4191-1757764800-1757768400@sndtiase.ac.in
SUMMARY:Studying Abroad Report 2025
DESCRIPTION:Studying abroad
URL:https://sndtiase.ac.in/event/studying-abroad-report-2025/
LOCATION:B.Ed. Hall\,
CATEGORIES:College Event
ATTACH;FMTTYPE=image/png:https://sndtiase.ac.in/wp-content/uploads/Studying-Abroad.png
END:VEVENT
BEGIN:VEVENT
DTSTART;TZID=Asia/Kolkata:20250920T080000
DTEND;TZID=Asia/Kolkata:20250920T170000
DTSTAMP:20260424T230643
CREATED:20260102T103551Z
LAST-MODIFIED:20260102T103820Z
UID:4132-1758355200-1758387600@sndtiase.ac.in
SUMMARY:Bhandarkar Oriental Institute2025
DESCRIPTION:Bhandarkar Oriental Institute2025
URL:https://sndtiase.ac.in/event/bhandarkar-oriental-institute2025/
CATEGORIES:College Event
ATTACH;FMTTYPE=image/png:https://sndtiase.ac.in/wp-content/uploads/Bhandarkar-Oriental-Institute2025.png
END:VEVENT
BEGIN:VEVENT
DTSTART;TZID=Asia/Kolkata:20250925T133000
DTEND;TZID=Asia/Kolkata:20250925T143000
DTSTAMP:20260424T230643
CREATED:20260103T053804Z
LAST-MODIFIED:20260103T053853Z
UID:4179-1758807000-1758810600@sndtiase.ac.in
SUMMARY:Pandit Deendayal Upadhyaya 2025
DESCRIPTION:Pandit Deendayal Upadhyaya
URL:https://sndtiase.ac.in/event/pandit-deendayal-upadhyaya-2025/
CATEGORIES:College Event
ATTACH;FMTTYPE=image/png:https://sndtiase.ac.in/wp-content/uploads/pandit-din-dayal.png
END:VEVENT
BEGIN:VEVENT
DTSTART;TZID=Asia/Kolkata:20250926T113000
DTEND;TZID=Asia/Kolkata:20250926T123000
DTSTAMP:20260424T230643
CREATED:20260103T060651Z
LAST-MODIFIED:20260103T060815Z
UID:4210-1758886200-1758889800@sndtiase.ac.in
SUMMARY:Shardiya Vyakhyanmala Report
DESCRIPTION:Shardiya Vyakhyanmala
URL:https://sndtiase.ac.in/event/shardiya-vyakhyanmala-report/
CATEGORIES:College Event
END:VEVENT
BEGIN:VEVENT
DTSTART;TZID=Asia/Kolkata:20250927T100000
DTEND;TZID=Asia/Kolkata:20250927T170000
DTSTAMP:20260424T230643
CREATED:20260103T055744Z
LAST-MODIFIED:20260103T060119Z
UID:4204-1758967200-1758992400@sndtiase.ac.in
SUMMARY:हिन्दी दिवस 2025
DESCRIPTION:हिन्दी दिवस 2025
URL:https://sndtiase.ac.in/event/%e0%a4%b9%e0%a4%bf%e0%a4%a8%e0%a5%8d%e0%a4%a6%e0%a5%80-%e0%a4%a6%e0%a4%bf%e0%a4%b5%e0%a4%b8-2025/
CATEGORIES:College Event
ATTACH;FMTTYPE=image/png:https://sndtiase.ac.in/wp-content/uploads/हिन्दी-दिवस.png
END:VEVENT
END:VCALENDAR