BEGIN:VCALENDAR
VERSION:2.0
PRODID:-//S.N.D.T College Of Education, Pune - ECPv6.15.17//NONSGML v1.0//EN
CALSCALE:GREGORIAN
METHOD:PUBLISH
X-ORIGINAL-URL:https://sndtiase.ac.in
X-WR-CALDESC:Events for S.N.D.T College Of Education, Pune
REFRESH-INTERVAL;VALUE=DURATION:PT1H
X-Robots-Tag:noindex
X-PUBLISHED-TTL:PT1H
BEGIN:VTIMEZONE
TZID:Asia/Kolkata
BEGIN:STANDARD
TZOFFSETFROM:+0530
TZOFFSETTO:+0530
TZNAME:IST
DTSTART:20240101T000000
END:STANDARD
END:VTIMEZONE
BEGIN:VEVENT
DTSTART;TZID=Asia/Kolkata:20251107T100000
DTEND;TZID=Asia/Kolkata:20251107T170000
DTSTAMP:20260425T024647
CREATED:20260103T055654Z
LAST-MODIFIED:20260103T055654Z
UID:4200-1762509600-1762534800@sndtiase.ac.in
SUMMARY:VANDE MATARAM SARTHA SHATABDI MAHOTSAV 2025
DESCRIPTION:VANDE MATARAM SARTHA SHATABDI MAHOTSAV
URL:https://sndtiase.ac.in/event/vande-mataram-sartha-shatabdi-mahotsav-2025/
CATEGORIES:College Event
ATTACH;FMTTYPE=image/png:https://sndtiase.ac.in/wp-content/uploads/VANDE-MATARAM-SARTHA.png
END:VEVENT
BEGIN:VEVENT
DTSTART;TZID=Asia/Kolkata:20251114T080000
DTEND;TZID=Asia/Kolkata:20251114T170000
DTSTAMP:20260425T024647
CREATED:20260102T104014Z
LAST-MODIFIED:20260102T104253Z
UID:4136-1763107200-1763139600@sndtiase.ac.in
SUMMARY:Birsa Munda Birth Anniversary Report2025
DESCRIPTION:Birsa Munda
URL:https://sndtiase.ac.in/event/birsa-munda-birth-anniversary-report2025/
CATEGORIES:College Event
ATTACH;FMTTYPE=image/png:https://sndtiase.ac.in/wp-content/uploads/birasa-munda-1.png
END:VEVENT
BEGIN:VEVENT
DTSTART;TZID=Asia/Kolkata:20251115T080000
DTEND;TZID=Asia/Kolkata:20251115T170000
DTSTAMP:20260425T024647
CREATED:20260103T052436Z
LAST-MODIFIED:20260103T052436Z
UID:4166-1763193600-1763226000@sndtiase.ac.in
SUMMARY:Kelkar Museum 2025
DESCRIPTION:Kelkar Museum
URL:https://sndtiase.ac.in/event/kelkar-museum-2025/
CATEGORIES:College Event
ATTACH;FMTTYPE=image/png:https://sndtiase.ac.in/wp-content/uploads/kelkar.png
END:VEVENT
BEGIN:VEVENT
DTSTART;TZID=Asia/Kolkata:20251126T080000
DTEND;TZID=Asia/Kolkata:20251126T170000
DTSTAMP:20260425T024647
CREATED:20260103T050653Z
LAST-MODIFIED:20260103T050847Z
UID:4150-1764144000-1764176400@sndtiase.ac.in
SUMMARY:Report on Constitution Day 2025
DESCRIPTION:Constitution Day Report
URL:https://sndtiase.ac.in/event/report-on-constitution-day-2025/
CATEGORIES:College Event
ATTACH;FMTTYPE=image/png:https://sndtiase.ac.in/wp-content/uploads/constitution-day-e1767416910534.png
END:VEVENT
END:VCALENDAR