BEGIN:VCALENDAR
VERSION:2.0
PRODID:-//S.N.D.T College Of Education, Pune - ECPv6.15.17//NONSGML v1.0//EN
CALSCALE:GREGORIAN
METHOD:PUBLISH
X-ORIGINAL-URL:https://sndtiase.ac.in
X-WR-CALDESC:Events for S.N.D.T College Of Education, Pune
REFRESH-INTERVAL;VALUE=DURATION:PT1H
X-Robots-Tag:noindex
X-PUBLISHED-TTL:PT1H
BEGIN:VTIMEZONE
TZID:Asia/Kolkata
BEGIN:STANDARD
TZOFFSETFROM:+0530
TZOFFSETTO:+0530
TZNAME:IST
DTSTART:20240101T000000
END:STANDARD
END:VTIMEZONE
BEGIN:VEVENT
DTSTART;TZID=Asia/Kolkata:20250611T080000
DTEND;TZID=Asia/Kolkata:20250621T170000
DTSTAMP:20260422T034020
CREATED:20260103T051941Z
LAST-MODIFIED:20260103T052111Z
UID:4162-1749628800-1750525200@sndtiase.ac.in
SUMMARY:Internaltion Yoga Day Report 2025
DESCRIPTION:yoga day
URL:https://sndtiase.ac.in/event/internaltion-yoga-day-report-2025/
CATEGORIES:College Event
ATTACH;FMTTYPE=image/png:https://sndtiase.ac.in/wp-content/uploads/yoga-day.png
END:VEVENT
END:VCALENDAR