BEGIN:VCALENDAR
VERSION:2.0
PRODID:-//S.N.D.T College Of Education, Pune - ECPv6.15.17//NONSGML v1.0//EN
CALSCALE:GREGORIAN
METHOD:PUBLISH
X-WR-CALNAME:S.N.D.T College Of Education, Pune
X-ORIGINAL-URL:https://sndtiase.ac.in
X-WR-CALDESC:Events for S.N.D.T College Of Education, Pune
REFRESH-INTERVAL;VALUE=DURATION:PT1H
X-Robots-Tag:noindex
X-PUBLISHED-TTL:PT1H
BEGIN:VTIMEZONE
TZID:Asia/Kolkata
BEGIN:STANDARD
TZOFFSETFROM:+0530
TZOFFSETTO:+0530
TZNAME:IST
DTSTART:20240101T000000
END:STANDARD
END:VTIMEZONE
BEGIN:VEVENT
DTSTART;TZID=Asia/Kolkata:20251204T133000
DTEND;TZID=Asia/Kolkata:20251204T143000
DTSTAMP:20260425T080639
CREATED:20260102T084516Z
LAST-MODIFIED:20260110T055842Z
UID:4120-1764855000-1764858600@sndtiase.ac.in
SUMMARY:AIDS day report
DESCRIPTION:KatrajV Report
URL:https://sndtiase.ac.in/event/aids-day-report/
CATEGORIES:College Event
ATTACH;FMTTYPE=image/png:https://sndtiase.ac.in/wp-content/uploads/AIDS.png
END:VEVENT
END:VCALENDAR