BEGIN:VCALENDAR
VERSION:2.0
PRODID:-//S.N.D.T College Of Education, Pune - ECPv6.15.17//NONSGML v1.0//EN
CALSCALE:GREGORIAN
METHOD:PUBLISH
X-WR-CALNAME:S.N.D.T College Of Education, Pune
X-ORIGINAL-URL:https://sndtiase.ac.in
X-WR-CALDESC:Events for S.N.D.T College Of Education, Pune
REFRESH-INTERVAL;VALUE=DURATION:PT1H
X-Robots-Tag:noindex
X-PUBLISHED-TTL:PT1H
BEGIN:VTIMEZONE
TZID:Asia/Kolkata
BEGIN:STANDARD
TZOFFSETFROM:+0530
TZOFFSETTO:+0530
TZNAME:IST
DTSTART:20240101T000000
END:STANDARD
END:VTIMEZONE
BEGIN:VEVENT
DTSTART;TZID=Asia/Kolkata:20251209T110000
DTEND;TZID=Asia/Kolkata:20251209T120000
DTSTAMP:20260425T061838
CREATED:20260103T054235Z
LAST-MODIFIED:20260103T054322Z
UID:4183-1765278000-1765281600@sndtiase.ac.in
SUMMARY:Reading Activity Report
DESCRIPTION:Reading Activity
URL:https://sndtiase.ac.in/event/reading-activity-report/
CATEGORIES:College Event
ATTACH;FMTTYPE=image/png:https://sndtiase.ac.in/wp-content/uploads/reading-activity.png
END:VEVENT
END:VCALENDAR