BEGIN:VCALENDAR
VERSION:2.0
PRODID:-//S.N.D.T College Of Education, Pune - ECPv6.15.17//NONSGML v1.0//EN
CALSCALE:GREGORIAN
METHOD:PUBLISH
X-WR-CALNAME:S.N.D.T College Of Education, Pune
X-ORIGINAL-URL:https://sndtiase.ac.in
X-WR-CALDESC:Events for S.N.D.T College Of Education, Pune
REFRESH-INTERVAL;VALUE=DURATION:PT1H
X-Robots-Tag:noindex
X-PUBLISHED-TTL:PT1H
BEGIN:VTIMEZONE
TZID:Asia/Kolkata
BEGIN:STANDARD
TZOFFSETFROM:+0530
TZOFFSETTO:+0530
TZNAME:IST
DTSTART:20170101T000000
END:STANDARD
END:VTIMEZONE
BEGIN:VEVENT
DTSTART;VALUE=DATE:20180916
DTEND;VALUE=DATE:20180917
DTSTAMP:20260421T192425
CREATED:20190116T010116Z
LAST-MODIFIED:20190116T010116Z
UID:2406-1537056000-1537142399@sndtiase.ac.in
SUMMARY:Black Color Day
DESCRIPTION:
URL:https://sndtiase.ac.in/event/black-color-day/
CATEGORIES:College Event
ATTACH;FMTTYPE=image/jpeg:https://sndtiase.ac.in/wp-content/uploads/2019/01/black-colour-day1-2.jpg
END:VEVENT
BEGIN:VEVENT
DTSTART;VALUE=DATE:20180825
DTEND;VALUE=DATE:20180826
DTSTAMP:20260421T192425
CREATED:20190116T013411Z
LAST-MODIFIED:20190116T013411Z
UID:2479-1535155200-1535241599@sndtiase.ac.in
SUMMARY:Student's Visit to Balbharati
DESCRIPTION:
URL:https://sndtiase.ac.in/event/students-visit-to-balbharati/
CATEGORIES:College Event
ATTACH;FMTTYPE=image/jpeg:https://sndtiase.ac.in/wp-content/uploads/2019/01/VS.-Balbharati-.jpg
END:VEVENT
BEGIN:VEVENT
DTSTART;VALUE=DATE:20180725
DTEND;VALUE=DATE:20180726
DTSTAMP:20260421T192425
CREATED:20190116T010642Z
LAST-MODIFIED:20190116T010642Z
UID:2421-1532476800-1532563199@sndtiase.ac.in
SUMMARY:Jeans Day
DESCRIPTION:
URL:https://sndtiase.ac.in/event/jeans-day/
CATEGORIES:College Event
ATTACH;FMTTYPE=image/jpeg:https://sndtiase.ac.in/wp-content/uploads/2019/01/E.-Jeans-day.jpg
END:VEVENT
BEGIN:VEVENT
DTSTART;VALUE=DATE:20180713
DTEND;VALUE=DATE:20180714
DTSTAMP:20260421T192425
CREATED:20190116T011316Z
LAST-MODIFIED:20190116T011316Z
UID:2432-1531440000-1531526399@sndtiase.ac.in
SUMMARY:Paper Bag Making
DESCRIPTION:
URL:https://sndtiase.ac.in/event/paper-bag-making/
CATEGORIES:College Event
ATTACH;FMTTYPE=image/jpeg:https://sndtiase.ac.in/wp-content/uploads/2019/01/E.-Paper-Bag-Making.jpg
END:VEVENT
BEGIN:VEVENT
DTSTART;VALUE=DATE:20180705
DTEND;VALUE=DATE:20180706
DTSTAMP:20260421T192425
CREATED:20180705T105023Z
LAST-MODIFIED:20181224T065512Z
UID:1861-1530748800-1530835199@sndtiase.ac.in
SUMMARY:Foundation Day Program
DESCRIPTION:It was 5th July\,1916 when Maharshi Karve had founded the SNDT Women’s University\, the first and the only unique Women’s University in India. On the occasion of Foundation Day Ceremony of S.N.D.T. Women’s University\, the S.N.D.T. College of Education\, Pune had organized a Tree Plantation Program. The Pro. Vice Chancellor Dr. Vishnu Magare had been the Chief Guest for the function. The Principal Dr.Nalini Patil welcomed the guest. During this function on Pune Campus of the University various Principals\, Heads\, Professors\, Office Employee and students were present and the all contributed in planting 50 trees. The office bearers representatives and volunteers of Rotary Club of Shanivarwada\, Prizam Foundation and Manav Mitra Foundation had actively participated in the program.
URL:https://sndtiase.ac.in/event/foundation-day-program/
CATEGORIES:College Event
ATTACH;FMTTYPE=image/jpeg:https://sndtiase.ac.in/wp-content/uploads/2018/07/SNDT-college-of-education-Pune.jpg
END:VEVENT
BEGIN:VEVENT
DTSTART;VALUE=DATE:20180705
DTEND;VALUE=DATE:20180706
DTSTAMP:20260421T192425
CREATED:20190116T011920Z
LAST-MODIFIED:20190116T011920Z
UID:2445-1530748800-1530835199@sndtiase.ac.in
SUMMARY:Centenary Year Celebration
DESCRIPTION:
URL:https://sndtiase.ac.in/event/centenary-year-celebration/
CATEGORIES:College Event
ATTACH;FMTTYPE=image/jpeg:https://sndtiase.ac.in/wp-content/uploads/2019/01/E.-Rally-torch-Rally-for-Centenary-Year.jpg
END:VEVENT
BEGIN:VEVENT
DTSTART;VALUE=DATE:20180704
DTEND;VALUE=DATE:20180705
DTSTAMP:20260421T192425
CREATED:20190116T012735Z
LAST-MODIFIED:20190116T012735Z
UID:2466-1530662400-1530748799@sndtiase.ac.in
SUMMARY:Trip to Satara Kumthe Bit
DESCRIPTION:
URL:https://sndtiase.ac.in/event/trip-to-satara-kumthe-bit/
CATEGORIES:College Event
ATTACH;FMTTYPE=image/jpeg:https://sndtiase.ac.in/wp-content/uploads/2019/01/trip-satara-kumthe-bit.jpg.jpg
END:VEVENT
BEGIN:VEVENT
DTSTART;VALUE=DATE:20180621
DTEND;VALUE=DATE:20180622
DTSTAMP:20260421T192425
CREATED:20180621T051014Z
LAST-MODIFIED:20190116T011541Z
UID:2146-1529539200-1529625599@sndtiase.ac.in
SUMMARY:Yoga Day Celebration 2018
DESCRIPTION: 
URL:https://sndtiase.ac.in/event/yoga-day-celebration-2018/
CATEGORIES:College Event
ATTACH;FMTTYPE=image/jpeg:https://sndtiase.ac.in/wp-content/uploads/2018/06/SNDT-College-of-Education-Puneyoga-1.jpg
END:VEVENT
BEGIN:VEVENT
DTSTART;VALUE=DATE:20180308
DTEND;VALUE=DATE:20180309
DTSTAMP:20260421T192425
CREATED:20190116T012237Z
LAST-MODIFIED:20190116T012237Z
UID:2449-1520467200-1520553599@sndtiase.ac.in
SUMMARY:Women's Day Rally
DESCRIPTION:
URL:https://sndtiase.ac.in/event/womens-day-rally/
CATEGORIES:College Event
ATTACH;FMTTYPE=image/jpeg:https://sndtiase.ac.in/wp-content/uploads/2019/01/E.-Rally-Womens-day-5.jpg
END:VEVENT
BEGIN:VEVENT
DTSTART;VALUE=DATE:20180227
DTEND;VALUE=DATE:20180228
DTSTAMP:20260421T192425
CREATED:20190116T013138Z
LAST-MODIFIED:20190116T013138Z
UID:2470-1519689600-1519775999@sndtiase.ac.in
SUMMARY:Visit by Eminent personality - Prof. Shashikala Wanjari on the Occasion of Marathi Day
DESCRIPTION:
URL:https://sndtiase.ac.in/event/visit-by-eminent-personality-prof-shashikala-wanjari-on-the-occasion-of-marathi-day/
CATEGORIES:College Event
ATTACH;FMTTYPE=image/jpeg:https://sndtiase.ac.in/wp-content/uploads/2019/01/VE.-Shashikala-Wanjari-Exhibition-Marathi-Day.jpg
END:VEVENT
BEGIN:VEVENT
DTSTART;VALUE=DATE:20180224
DTEND;VALUE=DATE:20180225
DTSTAMP:20260421T192425
CREATED:20190116T011012Z
LAST-MODIFIED:20190116T011012Z
UID:2424-1519430400-1519516799@sndtiase.ac.in
SUMMARY:Mock Interview
DESCRIPTION:
URL:https://sndtiase.ac.in/event/mock-interview/
CATEGORIES:College Event
ATTACH;FMTTYPE=image/jpeg:https://sndtiase.ac.in/wp-content/uploads/2019/01/E.-Mock-Interview.jpg
END:VEVENT
BEGIN:VEVENT
DTSTART;TZID=Asia/Kolkata:20180116T005700
DTEND;TZID=Asia/Kolkata:20180116T005700
DTSTAMP:20260421T192425
CREATED:20190116T005701Z
LAST-MODIFIED:20190116T005856Z
UID:2397-1516064220-1516064220@sndtiase.ac.in
SUMMARY:Annual Day Celebration
DESCRIPTION:  \n 
URL:https://sndtiase.ac.in/event/annual-day-celebration/
CATEGORIES:College Event
ATTACH;FMTTYPE=image/jpeg:https://sndtiase.ac.in/wp-content/uploads/2019/01/Annual-Day.jpg
END:VEVENT
BEGIN:VEVENT
DTSTART;VALUE=DATE:20180116
DTEND;VALUE=DATE:20180117
DTSTAMP:20260421T192426
CREATED:20190116T013302Z
LAST-MODIFIED:20190116T013302Z
UID:2476-1516060800-1516147199@sndtiase.ac.in
SUMMARY:Visit by Eminent Personality - Mr. Uttam Kamble
DESCRIPTION:
URL:https://sndtiase.ac.in/event/visit-by-eminent-personality-mr-uttam-kamble/
CATEGORIES:College Event
ATTACH;FMTTYPE=image/jpeg:https://sndtiase.ac.in/wp-content/uploads/2019/01/VE.-Uttam-Kamble.jpg
END:VEVENT
END:VCALENDAR